View In:
ArcGIS JavaScript
ArcGIS Online Map Viewer
ArcGIS Earth
Service Description: Hosted/Village_transparent_mosaic_group1
Name: Hosted/Village_transparent_mosaic_group1
Description:
Single Fused Map Cache: false
Extent:
XMin: 1648603.5599600002
YMin: 628427.84954
XMax: 1650432.6717000003
YMax: 630038.90729
Spatial Reference: 103129
(6549)
Initial Extent:
XMin: 1648603.5599600002
YMin: 628427.84954
XMax: 1650432.6717000003
YMax: 630038.90729
Spatial Reference: 103129
(6549)
Full Extent:
XMin: 1648603.5599600002
YMin: 628427.84954
XMax: 1650432.6717000003
YMax: 630038.90729
Spatial Reference: 103129
(6549)
Pixel Size X: 0.06907000000000303
Pixel Size Y: 0.06907000000000156
Band Count: 4
Pixel Type: U8
RasterFunction Infos: {"rasterFunctionInfos": [{
"help": "",
"name": "None",
"description": ""
}]}
Mensuration Capabilities: Basic
Inspection Capabilities:
Has Histograms: true
Has Colormap: false
Has Multi Dimensions : false
Rendering Rule:
Min Scale: 0
Max Scale: 0
Copyright Text:
Service Data Type: esriImageServiceDataTypeGeneric
Min Values: 0, 0, 0, 0
Max Values: 255, 255, 255, 255
Mean Values: 100.24412731971, 110.56764386294, 76.763910847939002, 208.55497425787999
Standard Deviation Values: 74.086223103240002, 72.975546886857003, 75.099534985011005, 98.419211354984
Object ID Field:
Fields:
None
Default Mosaic Method: Center
Allowed Mosaic Methods:
SortField:
SortValue: N/A
Mosaic Operator: First
Default Compression Quality: 75
Default Resampling Method: Bilinear
Max Record Count: null
Max Image Height: 4000
Max Image Width: 4000
Max Download Image Count: null
Max Mosaic Image Count: null
Allow Raster Function: true
Allow Copy: false
Allow Analysis: true
Allow Compute TiePoints: false
Supports Statistics: false
Supports Advanced Queries: false
Use StandardizedQueries: false
Raster Type Infos:
Name: Raster Dataset
Description: Supports all ArcGIS Raster Datasets
Help:
Has Raster Attribute Table: false
Edit Fields Info: N/A
Ownership Based AccessControl For Rasters: N/A
Child Resources:
Info
Histograms
Statistics
Key Properties
Legend
Raster Function Infos
Supported Operations:
Export Image
Identify
Measure
Compute Histograms
Compute Statistics Histograms
Get Samples
Compute Class Statistics
Query Boundary
Compute Pixel Location
Compute Angles
Validate
Project
EstimateExportTilesSize
ExportTiles