{
 "extent": {
  "ymin": 628427.84953999997,
  "xmin": 1648603.5599600002,
  "ymax": 630038.90729,
  "xmax": 1650432.6717000003,
  "spatialReference": {
   "latestWkid": 6549,
   "wkid": 103129
  }
 },
 "blockWidth": 26482,
 "mosaicOperator": "First",
 "serviceSourceType": "esriImageServiceSourceTypeDataset",
 "hasMultidimensions": false,
 "maxImageWidth": 4000,
 "meanValues": [
  100.24412731971,
  110.56764386294,
  76.763910847939002,
  208.55497425787999
 ],
 "hasColormap": false,
 "compressionType": "LZW",
 "defaultCompressionQuality": 75,
 "maxValues": [
  255,
  255,
  255,
  255
 ],
 "hasHistograms": true,
 "datasetFormat": "TIFF",
 "maxImageHeight": 4000,
 "sortField": "",
 "bandNames": [
  "Band_1",
  "Band_2",
  "Band_3",
  "Band_4"
 ],
 "spatialReference": {
  "latestWkid": 6549,
  "wkid": 103129
 },
 "fullExtent": {
  "ymin": 628427.84953999997,
  "xmin": 1648603.5599600002,
  "ymax": 630038.90729,
  "xmax": 1650432.6717000003,
  "spatialReference": {
   "latestWkid": 6549,
   "wkid": 103129
  }
 },
 "bandCount": 4,
 "rasterFunctionInfos": [
  {
   "help": "",
   "name": "None",
   "description": ""
  }
 ],
 "supportsStatistics": false,
 "sortableFields": "",
 "minValues": [
  0,
  0,
  0,
  0
 ],
 "allowRasterFunction": true,
 "allowComputeTiePoints": false,
 "serviceDataType": "esriImageServiceDataTypeGeneric",
 "supportsAdvancedQueries": false,
 "currentVersion": 12,
 "maxExportTilesCount": 50,
 "sortValue": null,
 "objectIdField": "",
 "blockHeight": 1,
 "initialExtent": {
  "ymin": 628427.84953999997,
  "xmin": 1648603.5599600002,
  "ymax": 630038.90729,
  "xmax": 1650432.6717000003,
  "spatialReference": {
   "latestWkid": 6549,
   "wkid": 103129
  }
 },
 "pixelSizeX": 0.069070000000003032,
 "pixelSizeY": 0.069070000000001561,
 "defaultMosaicMethod": "Center",
 "name": "Hosted/Village_transparent_mosaic_group1",
 "allowedMosaicMethods": "",
 "fields": [],
 "allowAnalysis": true,
 "hasRasterAttributeTable": false,
 "useStandardizedQueries": false,
 "description": "",
 "pixelType": "U8",
 "meanPixelSize": 0.021052578105156913,
 "exportTilesAllowed": true,
 "editFieldsInfo": null,
 "rasterTypeInfos": [
  {
   "help": "",
   "name": "Raster Dataset",
   "description": "Supports all ArcGIS Raster Datasets"
  }
 ],
 "defaultResamplingMethod": "Bilinear",
 "itemAccess": false,
 "minScale": 0,
 "serviceProperties": "Center<\/MosaicMethod>First<\/MosaicOperator>true<\/SortAscending><\/LockImageID><\/TileOrderField>0<\/TileOrderBase>0.000000<\/AvgImageSpacingX>0.000000<\/AvgImageSpacingY>0.0<\/ViewPointX>0.0<\/ViewPointY>0.0<\/ViewPointDefShiftX>0.0<\/ViewPointDefShiftY>None<\/CompressionMethod>75<\/CompressionQuality>0.010000<\/CompressionTolerance>Bilinear<\/SamplingMethod><\/ImageServiceProperties><\/ImageServer>",
 "advancedQueryCapabilities": {
  "supportsStatistics": false,
  "supportsSqlExpression": false,
  "supportsOrderBy": false,
  "useStandardizedQueries": false,
  "supportsPagination": false,
  "supportsDistinct": false
 },
 "serviceItemId": "19e68eeb37aa4451b395f15194ddc4a4",
 "capabilities": "Image,Mensuration",
 "maxScale": 0,
 "stdvValues": [
  74.086223103240002,
  72.975546886857003,
  75.099534985011005,
  98.419211354984
 ],
 "allowedFields": "",
 "minPixelSize": 0,
 "sortAscending": true,
 "inspectionCapabilities": "",
 "maxPixelSize": 0,
 "uncompressedSize": 2470770600,
 "serviceDescription": "Hosted/Village_transparent_mosaic_group1",
 "allowCopy": false,
 "copyrightText": "",
 "mensurationCapabilities": "Basic",
 "ownershipBasedAccessControlForRasters": null
}
