View In:
ArcGIS JavaScript
ArcGIS Online Map Viewer
ArcGIS Earth
Service Description: E_Wooster_RR_TO_CAMPBELL_HILL
Name: E_Wooster_RR_TO_CAMPBELL_HILL
Description:
Single Fused Map Cache: true
Tile Info:
- Height: 256
- Width: 256
- DPI: 96
-
Levels of Detail: 5
- Format: MIXED
- Compression Quality: 75.0
- LERC Error: NaN
- Origin: X: -1.189639E8
Y: 1.45491E8
- Spatial Reference: 103129
(6549)
Storage Info:
- Storage Format: esriMapCacheStorageModeCompactV2
- Packet Size: 128
Extent:
XMin: 1654230.39253
YMin: 623931.3651800001
XMax: 1660328.26773
YMax: 624600.6515800001
Spatial Reference: 103129
(6549)
Initial Extent:
XMin: 1654230.39253
YMin: 623931.3651800001
XMax: 1660328.26773
YMax: 624600.6515800001
Spatial Reference: 103129
(6549)
Full Extent:
XMin: 1654230.39253
YMin: 623931.3651800001
XMax: 1660328.26773
YMax: 624600.6515800001
Spatial Reference: 103129
(6549)
Pixel Size X: 0.06079999999999893
Pixel Size Y: 0.060799999999998425
Band Count: 4
Pixel Type: U8
RasterFunction Infos: {"rasterFunctionInfos": [{
"help": "",
"name": "None",
"description": ""
}]}
Mensuration Capabilities: Basic
Inspection Capabilities:
Has Histograms: true
Has Colormap: false
Has Multi Dimensions : false
Rendering Rule:
Min Scale: 0
Max Scale: 0
Resampling: false
Copyright Text:
Service Data Type: esriImageServiceDataTypeGeneric
Min Values: 0, 0, 0, 0
Max Values: 255, 255, 255, 255
Mean Values: 96.032284905184994, 108.42593883166001, 96.825335737027004, 202.22192262119
Standard Deviation Values: 70.872579522033007, 72.173772300394006, 74.667253865687002, 103.30965245066
Object ID Field:
Fields:
None
Default Mosaic Method: Center
Allowed Mosaic Methods:
SortField:
SortValue: N/A
Mosaic Operator: First
Default Compression Quality: 75
Default Resampling Method: Bilinear
Max Record Count: null
Max Image Height: 4100
Max Image Width: 15000
Max Download Image Count: null
Max Mosaic Image Count: null
Allow Raster Function: true
Allow Copy: true
Allow Analysis: true
Allow Compute TiePoints: false
Supports Statistics: false
Supports Advanced Queries: false
Use StandardizedQueries: false
Raster Type Infos:
Name: Raster Dataset
Description: Supports all ArcGIS Raster Datasets
Help:
Has Raster Attribute Table: false
Edit Fields Info: N/A
Ownership Based AccessControl For Rasters: N/A
Child Resources:
Info
Histograms
Statistics
Key Properties
Legend
Raster Function Infos
Supported Operations:
Export Image
Identify
Measure
Compute Histograms
Compute Statistics Histograms
Get Samples
Compute Class Statistics
Query Boundary
Compute Pixel Location
Compute Angles
Validate
Project