{
 "extent": {
  "ymin": 623931.36518000008,
  "xmin": 1654230.3925300001,
  "ymax": 624600.65158000006,
  "xmax": 1660328.26773,
  "spatialReference": {
   "latestWkid": 6549,
   "wkid": 103129
  }
 },
 "blockWidth": 100294,
 "mosaicOperator": "First",
 "serviceSourceType": "esriImageServiceSourceTypeDataset",
 "hasMultidimensions": false,
 "maxImageWidth": 15000,
 "tileInfo": {
  "lods": [
   {
    "level": 0,
    "scale": 2000,
    "resolution": 1.7361111111111109
   },
   {
    "level": 1,
    "scale": 1000,
    "resolution": 0.86805555555555547
   },
   {
    "level": 2,
    "scale": 500,
    "resolution": 0.43402777777777773
   },
   {
    "level": 3,
    "scale": 250,
    "resolution": 0.21701388888888887
   },
   {
    "level": 4,
    "scale": 125,
    "resolution": 0.10850694444444443
   }
  ],
  "origin": {
   "x": -118963900,
   "y": 145491000
  },
  "format": "MIXED",
  "compressionQuality": 75,
  "rows": 256,
  "dpi": 96,
  "spatialReference": {
   "latestWkid": 6549,
   "wkid": 103129
  },
  "cols": 256
 },
 "meanValues": [
  96.032284905184994,
  108.42593883166001,
  96.825335737027004,
  202.22192262119
 ],
 "hasColormap": false,
 "compressionType": "LZW",
 "defaultCompressionQuality": 75,
 "maxValues": [
  255,
  255,
  255,
  255
 ],
 "hasHistograms": true,
 "datasetFormat": "TIFF",
 "maxImageHeight": 4100,
 "sortField": "",
 "bandNames": [
  "Band_1",
  "Band_2",
  "Band_3",
  "Band_4"
 ],
 "spatialReference": {
  "latestWkid": 6549,
  "wkid": 103129
 },
 "fullExtent": {
  "ymin": 623931.36518000008,
  "xmin": 1654230.3925300001,
  "ymax": 624600.65158000006,
  "xmax": 1660328.26773,
  "spatialReference": {
   "latestWkid": 6549,
   "wkid": 103129
  }
 },
 "bandCount": 4,
 "rasterFunctionInfos": [
  {
   "help": "",
   "name": "None",
   "description": ""
  }
 ],
 "supportsStatistics": false,
 "sortableFields": "",
 "minValues": [
  0,
  0,
  0,
  0
 ],
 "allowRasterFunction": true,
 "allowComputeTiePoints": false,
 "serviceDataType": "esriImageServiceDataTypeGeneric",
 "supportsAdvancedQueries": false,
 "currentVersion": 12,
 "sortValue": null,
 "objectIdField": "",
 "blockHeight": 1,
 "initialExtent": {
  "ymin": 623931.36518000008,
  "xmin": 1654230.3925300001,
  "ymax": 624600.65158000006,
  "xmax": 1660328.26773,
  "spatialReference": {
   "latestWkid": 6549,
   "wkid": 103129
  }
 },
 "pixelSizeX": 0.060799999999998931,
 "pixelSizeY": 0.060799999999998425,
 "defaultMosaicMethod": "Center",
 "name": "E_Wooster_RR_TO_CAMPBELL_HILL",
 "allowedMosaicMethods": "",
 "fields": [],
 "allowAnalysis": true,
 "hasRasterAttributeTable": false,
 "useStandardizedQueries": false,
 "description": "",
 "pixelType": "U8",
 "meanPixelSize": 0.018531877063753727,
 "exportTilesAllowed": false,
 "editFieldsInfo": null,
 "rasterTypeInfos": [
  {
   "help": "",
   "name": "Raster Dataset",
   "description": "Supports all ArcGIS Raster Datasets"
  }
 ],
 "defaultResamplingMethod": "Bilinear",
 "itemAccess": false,
 "minScale": 0,
 "cacheType": "Map",
 "serviceProperties": "Center<\/MosaicMethod>First<\/MosaicOperator>true<\/SortAscending><\/LockImageID><\/TileOrderField>0<\/TileOrderBase>0.000000<\/AvgImageSpacingX>0.000000<\/AvgImageSpacingY>0.0<\/ViewPointX>0.0<\/ViewPointY>0.0<\/ViewPointDefShiftX>0.0<\/ViewPointDefShiftY>None<\/CompressionMethod>75<\/CompressionQuality>0.010000<\/CompressionTolerance>Bilinear<\/SamplingMethod><\/ImageServiceProperties><\/ImageServer>",
 "advancedQueryCapabilities": {
  "supportsStatistics": false,
  "supportsSqlExpression": false,
  "supportsOrderBy": false,
  "useStandardizedQueries": false,
  "supportsPagination": false,
  "supportsDistinct": false
 },
 "serviceItemId": "2dc1372a06f24d79ab3d6c40277b8fee",
 "capabilities": "Mensuration,Image,Metadata",
 "maxScale": 0,
 "singleFusedMapCache": true,
 "stdvValues": [
  70.872579522033007,
  72.173772300394006,
  74.667253865687002,
  103.30965245066
 ],
 "allowedFields": "",
 "minPixelSize": 0,
 "storageInfo": {
  "storageFormat": "esriMapCacheStorageModeCompactV2",
  "packetSize": 128
 },
 "resampling": false,
 "sortAscending": true,
 "inspectionCapabilities": "",
 "maxPixelSize": 0,
 "uncompressedSize": 4416145408,
 "serviceDescription": "E_Wooster_RR_TO_CAMPBELL_HILL",
 "allowCopy": true,
 "copyrightText": "",
 "mensurationCapabilities": "Basic",
 "ownershipBasedAccessControlForRasters": null
}
