View In:
ArcGIS JavaScript
ArcGIS Online Map Viewer
ArcGIS Earth
Service Description: Wood_2020_rgb_20x_sid
Name: Wood_2020_rgb_20x_sid
Description:
Single Fused Map Cache: false
Extent:
XMin: 1587500.0
YMin: 547500.0
XMax: 1718750.0
YMax: 713750.0
Spatial Reference: 3753
(3753)
Initial Extent:
XMin: 1587500.0
YMin: 547500.0
XMax: 1718750.0
YMax: 713750.0
Spatial Reference: 3753
(3753)
Full Extent:
XMin: 1587500.0
YMin: 547500.0
XMax: 1718750.0
YMax: 713750.0
Spatial Reference: 3753
(3753)
Pixel Size X: 0.25
Pixel Size Y: 0.25
Band Count: 3
Pixel Type: U8
RasterFunction Infos: {"rasterFunctionInfos": [{
"help": "",
"name": "None",
"description": ""
}]}
Mensuration Capabilities: Basic
Inspection Capabilities:
Has Histograms: true
Has Colormap: false
Has Multi Dimensions : false
Rendering Rule:
Min Scale: 0
Max Scale: 0
Copyright Text:
Service Data Type: esriImageServiceDataTypeRGB
Min Values: 20, 20, 16
Max Values: 255, 255, 255
Mean Values: 153.76848030018999, 147.90300187617001, 131.97542213884
Standard Deviation Values: 52.985183784642999, 54.332882065470997, 61.743042813674002
Object ID Field:
Fields:
None
Default Mosaic Method: Center
Allowed Mosaic Methods:
SortField:
SortValue: N/A
Mosaic Operator: First
Default Compression Quality: 75
Default Resampling Method: Bilinear
Max Record Count: null
Max Image Height: 4100
Max Image Width: 15000
Max Download Image Count: null
Max Mosaic Image Count: null
Allow Raster Function: true
Allow Copy: true
Allow Analysis: true
Allow Compute TiePoints: false
Supports Statistics: false
Supports Advanced Queries: false
Use StandardizedQueries: false
Raster Type Infos:
Name: Raster Dataset
Description: Supports all ArcGIS Raster Datasets
Help:
Has Raster Attribute Table: false
Edit Fields Info: N/A
Ownership Based AccessControl For Rasters: N/A
Child Resources:
Info
Histograms
Statistics
Key Properties
Legend
Raster Function Infos
Supported Operations:
Export Image
Identify
Measure
Compute Histograms
Compute Statistics Histograms
Get Samples
Compute Class Statistics
Query Boundary
Compute Pixel Location
Compute Angles
Validate
Project