View In:
ArcGIS JavaScript
ArcGIS Online Map Viewer
ArcGIS Earth
Service Description: Drone Flight
Name: Mercator_Auxiliary_Sphere/ManitobaPond_03_04_2026
Description: Drone Flight
Single Fused Map Cache: false
Extent:
XMin: -9314934.838593826
YMin: 5069530.56823238
XMax: -9314681.790228778
YMax: 5069744.968871467
Spatial Reference: 102100
(3857)
Initial Extent:
XMin: -9314934.838593826
YMin: 5069530.56823238
XMax: -9314681.790228778
YMax: 5069744.968871467
Spatial Reference: 102100
(3857)
Full Extent:
XMin: -9314934.838593826
YMin: 5069530.56823238
XMax: -9314681.790228778
YMax: 5069744.968871467
Spatial Reference: 102100
(3857)
Pixel Size X: 0.01866138385303846
Pixel Size Y: 0.018661383852986487
Band Count: 3
Pixel Type: U8
RasterFunction Infos: {"rasterFunctionInfos": [{
"help": "",
"name": "None",
"description": ""
}]}
Mensuration Capabilities: Basic
Inspection Capabilities:
Has Histograms: false
Has Colormap: false
Has Multi Dimensions : false
Rendering Rule:
Min Scale: 0
Max Scale: 0
Copyright Text:
Service Data Type: esriImageServiceDataTypeRGB
Min Values: N/A
Max Values: N/A
Mean Values: N/A
Standard Deviation Values: N/A
Object ID Field:
Fields:
None
Default Mosaic Method: Center
Allowed Mosaic Methods:
SortField:
SortValue: N/A
Mosaic Operator: First
Default Compression Quality: 75
Default Resampling Method: Bilinear
Max Record Count: null
Max Image Height: 4100
Max Image Width: 15000
Max Download Image Count: null
Max Mosaic Image Count: null
Allow Raster Function: true
Allow Copy: true
Allow Analysis: true
Allow Compute TiePoints: false
Supports Statistics: false
Supports Advanced Queries: false
Use StandardizedQueries: false
Raster Type Infos:
Name: Raster Dataset
Description: Supports all ArcGIS Raster Datasets
Help:
Has Raster Attribute Table: false
Edit Fields Info: N/A
Ownership Based AccessControl For Rasters: N/A
Child Resources:
Info
Statistics
Key Properties
Legend
Raster Function Infos
Supported Operations:
Export Image
Identify
Measure
Compute Histograms
Compute Statistics Histograms
Get Samples
Compute Class Statistics
Query Boundary
Compute Pixel Location
Compute Angles
Validate
Project