View In:
ArcGIS JavaScript
ArcGIS Online Map Viewer
ArcGIS Earth
Service Description: Drone Flight
Name: Mercator_Auxiliary_Sphere/Church_St_1_6_2021
Description: Drone Flight
Single Fused Map Cache: false
Extent:
XMin: -9312196.112560948
YMin: 5066568.969292144
XMax: -9312014.92918512
YMax: 5067316.992202507
Spatial Reference: 102100
(3857)
Initial Extent:
XMin: -9312196.112560948
YMin: 5066568.969292144
XMax: -9312014.92918512
YMax: 5067316.992202507
Spatial Reference: 102100
(3857)
Full Extent:
XMin: -9312196.112560948
YMin: 5066568.969292144
XMax: -9312014.92918512
YMax: 5067316.992202507
Spatial Reference: 102100
(3857)
Pixel Size X: 0.01866138385291669
Pixel Size Y: 0.018661383852984752
Band Count: 3
Pixel Type: U8
RasterFunction Infos: {"rasterFunctionInfos": [{
"help": "",
"name": "None",
"description": ""
}]}
Mensuration Capabilities: Basic
Inspection Capabilities:
Has Histograms: false
Has Colormap: false
Has Multi Dimensions : false
Rendering Rule:
Min Scale: 0
Max Scale: 0
Copyright Text:
Service Data Type: esriImageServiceDataTypeRGB
Min Values: N/A
Max Values: N/A
Mean Values: N/A
Standard Deviation Values: N/A
Object ID Field:
Fields:
None
Default Mosaic Method: Center
Allowed Mosaic Methods:
SortField:
SortValue: N/A
Mosaic Operator: First
Default Compression Quality: 75
Default Resampling Method: Bilinear
Max Record Count: null
Max Image Height: 4100
Max Image Width: 15000
Max Download Image Count: null
Max Mosaic Image Count: null
Allow Raster Function: true
Allow Copy: true
Allow Analysis: true
Allow Compute TiePoints: false
Supports Statistics: false
Supports Advanced Queries: false
Use StandardizedQueries: false
Raster Type Infos:
Name: Raster Dataset
Description: Supports all ArcGIS Raster Datasets
Help:
Has Raster Attribute Table: false
Edit Fields Info: N/A
Ownership Based AccessControl For Rasters: N/A
Child Resources:
Info
Statistics
Key Properties
Legend
Raster Function Infos
Supported Operations:
Export Image
Identify
Measure
Compute Histograms
Compute Statistics Histograms
Get Samples
Compute Class Statistics
Query Boundary
Compute Pixel Location
Compute Angles
Validate
Project