View In:
ArcGIS JavaScript
ArcGIS Online Map Viewer
ArcGIS Earth
Service Description: 5_24_2021
Name: Drone/EWooster
Description: 5_24_2021
Single Fused Map Cache: false
Extent:
XMin: -9311332.966192126
YMin: 5067599.39309175
XMax: -9308856.308849035
YMax: 5067904.147579425
Spatial Reference: 102100
(3857)
Initial Extent:
XMin: -9311332.966192126
YMin: 5067599.39309175
XMax: -9308856.308849035
YMax: 5067904.147579425
Spatial Reference: 102100
(3857)
Full Extent:
XMin: -9311332.966192126
YMin: 5067599.39309175
XMax: -9308856.308849035
YMax: 5067904.147579425
Spatial Reference: 102100
(3857)
Pixel Size X: 0.018531877063753803
Pixel Size Y: 0.01853187706375365
Band Count: 4
Pixel Type: U8
RasterFunction Infos: {"rasterFunctionInfos": [{
"help": "",
"name": "None",
"description": ""
}]}
Mensuration Capabilities: Basic
Inspection Capabilities:
Has Histograms: true
Has Colormap: false
Has Multi Dimensions : false
Rendering Rule:
Min Scale: 0
Max Scale: 0
Resampling: false
Copyright Text: 5_24_2021
Service Data Type: esriImageServiceDataTypeGeneric
Min Values: 0, 0, 0, 0
Max Values: 255, 255, 255, 255
Mean Values: 96.032284905184994, 108.42593883166001, 96.825335737027004, 202.22192262119
Standard Deviation Values: 70.872579522033007, 72.173772300394006, 74.667253865687002, 103.30965245066
Object ID Field:
Fields:
None
Default Mosaic Method: Center
Allowed Mosaic Methods:
SortField:
SortValue: N/A
Mosaic Operator: First
Default Compression Quality: 75
Default Resampling Method: Bilinear
Max Record Count: null
Max Image Height: 4100
Max Image Width: 15000
Max Download Image Count: null
Max Mosaic Image Count: null
Allow Raster Function: true
Allow Copy: true
Allow Analysis: true
Allow Compute TiePoints: false
Supports Statistics: false
Supports Advanced Queries: false
Use StandardizedQueries: false
Raster Type Infos:
Name: Raster Dataset
Description: Supports all ArcGIS Raster Datasets
Help:
Has Raster Attribute Table: false
Edit Fields Info: N/A
Ownership Based AccessControl For Rasters: N/A
Child Resources:
Info
Histograms
Statistics
Key Properties
Legend
Raster Function Infos
Supported Operations:
Export Image
Identify
Measure
Compute Histograms
Compute Statistics Histograms
Get Samples
Compute Class Statistics
Query Boundary
Compute Pixel Location
Compute Angles
Validate
Project