<?xml version="1.0" encoding="UTF-8" standalone="no"?>
<metadata>
<idinfo>
<citation>
<citeinfo>
<origin>State of Ohio Office of Information Technology, Ohio Geographically Referenced Information Program</origin>
<pubdate>20201207</pubdate>
<title>Wood_2020_rgb_20x.sid</title>
<geoform>raster</geoform>
</citeinfo>
</citation>
<descript>
<abstract>In the Spring of 2020, Wood County obtained new orthoimagery covering the entire county (+/- 621.4 sq. mi). The aerial imagery was collected during leaf-off conditions with a 3-inch pixel resolution. Imagery was collected with the Leica ADS100 Airborne Digital Sensor. Along the perimeter of the project area, ortho-imagery is buffered at 100-feet. Existing ground control and lidar data will be utilized to provide the County the most economical product. The orthos are delivered as a countywide dataset, consisting of 1,250' x 1,250' uncompressed 8-bit, 4-band color GeoTIFF files. The file naming convention is as follows: bnxxxxyyyy (Ohio North Zone); Please note that xxxx and yyyy represent the easting and northing coordinates (respectively) in state plane feet. Each GeoTIFF ortho file is approximately 100 megabytes in size. Additional deliverables include countywide color and color infrared MrSID (Multi resolution Seamless Image Database) images (20x and 100x compressions), FGDC compliant metadata per file, and tile index provided in ESRI shapefile format. Ownership of the data products resides with Wood County and the state of Ohio. Orthoimagery and ancillary data products produced through this contract are public domain data.
</abstract>
<purpose>Wood County, OH has a goal to develop and/or update their existing orthoimagery geospatial dataset for use by city agencies, other levels of government, academia, and the general public, and to provide these datasets for inclusion to OGRIP. OGRIP is a State of Ohio resource for geographic information technology users.</purpose>
</descript>
<timeperd>
<timeinfo>
<mdattim>
<sngdate>
<caldate>20200307</caldate>
</sngdate>
<sngdate>
<caldate>20200315</caldate>
</sngdate>
<sngdate>
<caldate>20200325</caldate>
</sngdate>
<sngdate>
<caldate>20200402</caldate>
</sngdate>
<sngdate>
<caldate>20200403</caldate>
</sngdate>
<sngdate>
<caldate>20200408</caldate>
</sngdate>
<sngdate>
<caldate>20200409</caldate>
</sngdate>
<sngdate>
<caldate>20200411</caldate>
</sngdate>
</mdattim>
</timeinfo>
<current>ground condition</current>
</timeperd>
<status>
<progress>Complete</progress>
<update>As needed</update>
</status>
<spdom>
<bounding>
<westbc>-83.893430</westbc>
<eastbc>-83.407130</eastbc>
<northbc>41.622141</northbc>
<southbc>41.161154</southbc>
</bounding>
</spdom>
<keywords>
<theme>
<themekt>None</themekt>
<themekey>Raster</themekey>
<themekey>Orthophoto</themekey>
</theme>
<place>
<placekt>None</placekt>
<placekey>United States</placekey>
<placekey>Ohio</placekey>
<placekey>Wood County</placekey>
</place>
</keywords>
<accconst>This data set is in the public domain, and the recipient may not assert any proprietary rights thereto nor represent it to any one as other than a data set produced by Woood County and the Ohio Statewide Imagery Program.</accconst>
<useconst>This data is for planning purposes only and should not be used for legal or cadastral purposes. This data set is provided "as-is" without warranty of any kind, including, but not limited to, the implied warranties of merchantability and fitness for a particular purpose. User must assume responsibility for determining the suitability of these data for their purposes.</useconst>
<ptcontac>
<cntinfo>
<cntorgp>
<cntorg>OGRIP</cntorg>
</cntorgp>
<cntpos>GIS Manager</cntpos>
<cntaddr>
<addrtype>mailing and physical address</addrtype>
<address>77 S. High St. - Rm 1990</address>
<city>Columbus</city>
<state>OH</state>
<postal>43215</postal>
<country>USA</country>
</cntaddr>
<cntvoice>(614) 466-4747</cntvoice>
<cntfax>(614) 728-5297</cntfax>
</cntinfo>
</ptcontac>
<native>Windows 10 Enterprise; Esri ArcGIS 10.5</native>
</idinfo>
<dataqual>
<logic>This orthophoto imagery follows the boundary of Wood County.</logic>
<complete>The dataset is complete</complete>
<posacc>
<horizpa>
<horizpar>The 7.5cm (3-inch) orthoimagery will be produced by Woolpert to meet ASPRS Positional Accuracy Standards for Digital Geospatial Data (2014) for a 11cm RMSEx / RMSEy Horizontal Accuracy Class which equates to Positional Horizontal Accuracy = +/- 27.6cm (+/- 0.9ft) at a 95% confidence level.</horizpar>
</horizpa>
</posacc>
<lineage>
<procstep>
<procdesc>The Leica ADS100 Airborne Digital Sensor is a push-broom geometry sensor, collecting 12-bit data with 20,000 pixel swath coverage with up to a 5-centimeter spatial resolution. The sensor is capable of collecting multiple spectral bands and angles simultaneously. Leica ADS100 collects seven bands of imagery simultaneously: three panchromatic CCD lines capture information in the forward, nadir and backward views from the aircraft, while four multispectral lines capture data in the red, green, blue, and near color infrared band. The imagery for this task order was acquired using the Leica ADS100 multispectral scanner. The ADS100 utilizes the Leica IPAS20 direct positioning and orientation system that is based on airborne GPS and inertial measurement unit (IMU) technology. The IPAS20 data were reduced using Leica Inertial Explorer software package. All of the source imagery was processed using the Leica XPRO software package. This package provides the capability to perform digital image processing, aerial triangulation, and image rectification.</procdesc>
<procdate>20201207</procdate>
<proccont>
<cntinfo>
<cntorgp>
<cntorg>Woolpert</cntorg>
</cntorgp>
<cntpos>Geospatial Services</cntpos>
<cntaddr>
<addrtype>mailing and physical address</addrtype>
<address>4454 Idea Center Blvd.</address>
<city>Dayton</city>
<state>OH</state>
<postal>45430</postal>
<country>USA</country>
</cntaddr>
<cntvoice>(937) 461-5660</cntvoice>
<cntfax>(937) 461-0743</cntfax>
<hours>8:00 a.m. to 5:00 p.m. Eastern Time</hours>
</cntinfo>
</proccont>
</procstep>
<procstep>
<procdesc>The strips of imagery were ortho rectified to newly collected LiDAR digital elevation model (DEM) data. The individual rectified strips of ortho rectified imagery were then mosaicked together to form a seamless imagery database over the entire task order area using the OrthoVista software. The final digital orthophoto imagery (DOI) were extracted using OrthoVista. Final orthophoto non-overlapping tiles were produced in GeoTIFF format (with World files) using a cell size of 3-inch and a tile size of 1,250 ft x 1,250 ft.</procdesc>
<procdate>20201207</procdate>
<proccont>
<cntinfo>
<cntorgp>
<cntorg>Woolpert</cntorg>
</cntorgp>
<cntpos>Geospatial Services</cntpos>
<cntaddr>
<addrtype>mailing and physical address</addrtype>
<address>4454 Idea Center Blvd.</address>
<city>Dayton</city>
<state>OH</state>
<postal>45430</postal>
<country>USA</country>
</cntaddr>
<cntvoice>(937) 461-5660</cntvoice>
<hours>8:00 a.m. to 5:00 p.m. Eastern Time</hours>
</cntinfo>
</proccont>
</procstep>
<procstep>
<procdesc>In addition to the 3-inch pixel GeoTIFF data set, Woolpert provided the MrSID (Multi resolution Seamless Image Database) imagery. For this task order, orthoimage tiles are combined and compressed into Countywide GEN3 MrSID mosaics (20x and 100x compressions; RGB and CIR) in MrSID image format.</procdesc>
<procdate>20201207</procdate>
<proccont>
<cntinfo>
<cntorgp>
<cntorg>Woolpert</cntorg>
</cntorgp>
<cntpos>Geospatial Services</cntpos>
<cntaddr>
<addrtype>mailing and physical address</addrtype>
<address>4454 Idea Center Blvd.</address>
<city>Dayton</city>
<state>OH</state>
<postal>45430</postal>
<country>USA</country>
</cntaddr>
<cntvoice>(937) 461-5660</cntvoice>
<hours>8:00 a.m. to 5:00 p.m. Eastern Time</hours>
</cntinfo>
</proccont>
</procstep>
</lineage>
</dataqual>
<spdoinfo>
<direct>Raster</direct>
<rastinfo>
<rasttype>Pixel</rasttype>
<rowcount>665000</rowcount>
<colcount>525000</colcount>
</rastinfo>
</spdoinfo>
<spref>
<horizsys>
<planar>
<mapproj>
<mapprojn>NAD 1983 HARN StatePlane Ohio North FIPS 3401 Feet</mapprojn>
<lambertc>
<stdparll>40.43333333333333</stdparll>
<stdparll>41.7</stdparll>
<longcm>-82.5</longcm>
<latprjo>39.66666666666666</latprjo>
<feast>1968500.0</feast>
<fnorth>0.0</fnorth>
</lambertc>
</mapproj>
<planci>
<plance>row and column</plance>
<coordrep>
<absres>0.25</absres>
<ordres>0.25</ordres>
</coordrep>
<plandu>foot_us</plandu>
</planci>
</planar>
<geodetic>
<horizdn>D North American 1983 HARN</horizdn>
<ellips>GRS 1980</ellips>
<semiaxis>6378137.0</semiaxis>
<denflat>298.257222101</denflat>
</geodetic>
</horizsys>
</spref>
<distinfo>
<distrib>
<cntinfo>
<cntorgp>
<cntorg>OGRIP</cntorg>
</cntorgp>
<cntpos>GIS Manager</cntpos>
<cntaddr>
<addrtype>mailing and physical address</addrtype>
<address>77 S. High St. - Rm 1990</address>
<city>Columbus</city>
<state>OH</state>
<postal>43215</postal>
<country>USA</country>
</cntaddr>
<cntvoice>(614) 466-4747</cntvoice>
<cntfax>(614) 728-5297</cntfax>
</cntinfo>
</distrib>
<resdesc>Downloadable Data</resdesc>
<distliab>The information contained in these data is dynamic and may change over time. The data are not better than the original sources from which they were derived. It is the responsibility of the data user to use the data appropriately and within the limitations of the data for which it was requested and prepared, in general, and these data in particular. The related graphics are intended to aid the data user in acquiring relevant data. It is not appropriate to use the related graphics as data. Woolpert gives no warranty, expressed or implied, as to the accuracy, reliability, or completeness of these data. It is strongly recommended that these data are directly acquired from a Woolpert server, and not indirectly through other sources which may have changed the data in some way. Although these data have been processed successfully upon Woolpert’s computer system, no warranty, expressed or implied, is made regarding the utility of the data on another system, or for general or scientific purposes; nor shall the act of distribution constitute any such warranty. This disclaimer applies both to individual use of the data and aggregate use with other data.</distliab>
<stdorder>
<digform>
<digtinfo>
<formname>SID</formname>
<transize>49943.0418959</transize>
</digtinfo>
<digtopt>
<onlinopt>
<computer>
<networka>
<networkr>http://ogrip.oit.ohio.gov/ServicesData/StatewideImagery/tabid/86/Default.aspx</networkr>
</networka>
</computer>
</onlinopt>
</digtopt>
</digform>
<fees>None</fees>
</stdorder>
</distinfo>
<metainfo>
<metd>20201207</metd>
<metc>
<cntinfo>
<cntorgp>
<cntorg>OGRIP</cntorg>
</cntorgp>
<cntpos>GIS Manager</cntpos>
<cntaddr>
<addrtype>mailing and physical address</addrtype>
<address>77 S. High St. - Rm 1990</address>
<city>Columbus</city>
<state>OH</state>
<postal>43215</postal>
<country>USA</country>
</cntaddr>
<cntvoice>(614) 466-4747</cntvoice>
<cntfax>(614) 728-5297</cntfax>
</cntinfo>
</metc>
<metstdn>FGDC Content Standards for Digital Geospatial Metadata</metstdn>
<metstdv>FGDC-STD-001-1998</metstdv>
<mettc>local time</mettc>
</metainfo>
<dataIdInfo>
<idAbs/>
<searchKeys>
<keyword>County</keyword>
</searchKeys>
<idPurp>County Aerial</idPurp>
<idCredit/>
<resConst>
<Consts>
<useLimit/>
</Consts>
</resConst>
<idCitation>
<resTitle>Wood_2020_rgb_20x_sid</resTitle>
</idCitation>
</dataIdInfo>
</metadata>
